BEGIN:VCALENDAR
VERSION:2.0
PRODID:-//Protestantisch-Reformierte Kirche von Luxemburg - ECPv6.9.0//NONSGML v1.0//EN
CALSCALE:GREGORIAN
METHOD:PUBLISH
X-WR-CALNAME:Protestantisch-Reformierte Kirche von Luxemburg
X-ORIGINAL-URL:https://ref-lux.eu
X-WR-CALDESC:Veranstaltungen für Protestantisch-Reformierte Kirche von Luxemburg
REFRESH-INTERVAL;VALUE=DURATION:PT1H
X-Robots-Tag:noindex
X-PUBLISHED-TTL:PT1H
BEGIN:VTIMEZONE
TZID:Europe/Luxembourg
BEGIN:DAYLIGHT
TZOFFSETFROM:+0100
TZOFFSETTO:+0200
TZNAME:CEST
DTSTART:20260329T010000
END:DAYLIGHT
BEGIN:STANDARD
TZOFFSETFROM:+0200
TZOFFSETTO:+0100
TZNAME:CET
DTSTART:20261025T010000
END:STANDARD
END:VTIMEZONE
BEGIN:VEVENT
DTSTART;TZID=Europe/Luxembourg:20260419T100000
DTEND;TZID=Europe/Luxembourg:20260419T104500
DTSTAMP:20260419T143351
CREATED:20251211T192506Z
LAST-MODIFIED:20260216T223419Z
UID:3468-1776592800-1776595500@ref-lux.eu
SUMMARY:Gottesdienst\, anschl. Messpresso
DESCRIPTION:
URL:https://ref-lux.eu/event/gottesdienst-151/
LOCATION:Prot.Ref.Kirche in Esch/Alz.\, rue de la Libération\, 11\, Esch-sur-Alzette\, Luxemburg\, 4210
CATEGORIES:Gottesdienst
END:VEVENT
END:VCALENDAR