BEGIN:VCALENDAR
VERSION:2.0
PRODID:-//Protestantisch-Reformierte Kirche von Luxemburg - ECPv5.1.5//NONSGML v1.0//EN
CALSCALE:GREGORIAN
METHOD:PUBLISH
X-WR-CALNAME:Protestantisch-Reformierte Kirche von Luxemburg
X-ORIGINAL-URL:https://ref-lux.eu
X-WR-CALDESC:Veranstaltungen für Protestantisch-Reformierte Kirche von Luxemburg
BEGIN:VTIMEZONE
TZID:Europe/Paris
BEGIN:DAYLIGHT
TZOFFSETFROM:+0100
TZOFFSETTO:+0200
TZNAME:CEST
DTSTART:20200329T010000
END:DAYLIGHT
BEGIN:STANDARD
TZOFFSETFROM:+0200
TZOFFSETTO:+0100
TZNAME:CET
DTSTART:20201025T010000
END:STANDARD
END:VTIMEZONE
BEGIN:VEVENT
DTSTART;TZID=Europe/Paris:20200802T100000
DTEND;TZID=Europe/Paris:20200802T104500
DTSTAMP:20200812T072108
CREATED:20200416T091822Z
LAST-MODIFIED:20200625T141708Z
UID:1120-1596362400-1596365100@ref-lux.eu
SUMMARY:Gottesdienst OHNE Messpresso
DESCRIPTION:
URL:https://ref-lux.eu/event/gottesdienst-35/
LOCATION:Prot.Ref.Kirche in Esch/Alz.\, rue de la Libération\, 11\, Esch-sur-Alzette\, Luxemburg\, 4210
CATEGORIES:Gottesdienst
END:VEVENT
BEGIN:VEVENT
DTSTART;TZID=Europe/Paris:20200809T100000
DTEND;TZID=Europe/Paris:20200809T104500
DTSTAMP:20200812T072108
CREATED:20200625T141937Z
LAST-MODIFIED:20200625T141937Z
UID:1267-1596967200-1596969900@ref-lux.eu
SUMMARY:Gottesdienst
DESCRIPTION:
URL:https://ref-lux.eu/event/gottesdienst-36/
LOCATION:Prot.Ref.Kirche in Esch/Alz.\, rue de la Libération\, 11\, Esch-sur-Alzette\, Luxemburg\, 4210
CATEGORIES:Gottesdienst
END:VEVENT
BEGIN:VEVENT
DTSTART;TZID=Europe/Paris:20200816T100000
DTEND;TZID=Europe/Paris:20200816T104500
DTSTAMP:20200812T072108
CREATED:20200625T142032Z
LAST-MODIFIED:20200727T092801Z
UID:1269-1597572000-1597574700@ref-lux.eu
SUMMARY:Gottesdienst FÄLLT AUS
DESCRIPTION:Kein Gottesdienst &#8212; pas de culte \n
URL:https://ref-lux.eu/event/gottesdienst-37/
LOCATION:Prot.Ref.Kirche in Esch/Alz.\, rue de la Libération\, 11\, Esch-sur-Alzette\, Luxemburg\, 4210
CATEGORIES:Gottesdienst
END:VEVENT
BEGIN:VEVENT
DTSTART;TZID=Europe/Paris:20200823T100000
DTEND;TZID=Europe/Paris:20200823T104500
DTSTAMP:20200812T072108
CREATED:20200625T142115Z
LAST-MODIFIED:20200729T085354Z
UID:1271-1598176800-1598179500@ref-lux.eu
SUMMARY:Gottesdienst
DESCRIPTION:
URL:https://ref-lux.eu/event/gottesdienst-38/
LOCATION:Prot.Ref.Kirche in Esch/Alz.\, rue de la Libération\, 11\, Esch-sur-Alzette\, Luxemburg\, 4210
CATEGORIES:Gottesdienst
END:VEVENT
BEGIN:VEVENT
DTSTART;TZID=Europe/Paris:20200830T100000
DTEND;TZID=Europe/Paris:20200830T104500
DTSTAMP:20200812T072108
CREATED:20200625T142253Z
LAST-MODIFIED:20200727T092643Z
UID:1273-1598781600-1598784300@ref-lux.eu
SUMMARY:Gottesdienst FÄLLT AUS
DESCRIPTION:Kein Gottesdienst &#8212; pas de culte \n
URL:https://ref-lux.eu/event/gottesdienst-39/
LOCATION:Prot.Ref.Kirche in Esch/Alz.\, rue de la Libération\, 11\, Esch-sur-Alzette\, Luxemburg\, 4210
CATEGORIES:Gottesdienst
END:VEVENT
END:VCALENDAR